BEGIN:VCALENDAR
VERSION:2.0
PRODID:-//ical.marudot.com//iCal Event Maker
X-WR-CALNAME:Unstoppable
NAME:Unstoppable
CALSCALE:GREGORIAN
BEGIN:VEVENT
DTSTAMP:20200423T161050Z
UID:20200423T161050Z-763488572@marudot.com
DTSTART:20200516T190000Z
DTEND:20200516T200000Z
SUMMARY:UNSTOPPABLE
URL:https%3A%2F%2Fwww.ijm.org%2Funstoppable-prayer-checkin
DESCRIPTION:An IJM online prayer event to end slavery and violence
BEGIN:VALARM
ACTION:DISPLAY
DESCRIPTION:UNSTOPPABLE
TRIGGER:-P1D
END:VALARM
END:VEVENT
END:VCALENDAR